{
 "extent": {
  "ymin": 3904336.1409478975,
  "xmin": 201331.27242047404,
  "ymax": 4685587.1774114184,
  "xmax": 702336.96268507,
  "spatialReference": {
   "latestWkid": 26912,
   "wkid": 26912
  }
 },
 "blockWidth": 5873,
 "mosaicOperator": "First",
 "serviceSourceType": "esriImageServiceSourceTypeDataset",
 "hasMultidimensions": false,
 "maxImageWidth": 15000,
 "meanValues": [
  234.88850470880001,
  228.98691757802001,
  227.37311123711001
 ],
 "hasColormap": false,
 "compressionType": "LZW",
 "defaultCompressionQuality": 75,
 "maxValues": [
  255,
  255,
  255
 ],
 "hasHistograms": true,
 "datasetFormat": "TIFF",
 "maxImageHeight": 4100,
 "sortField": "",
 "bandNames": [
  "Band_1",
  "Band_2",
  "Band_3"
 ],
 "spatialReference": {
  "latestWkid": 26912,
  "wkid": 26912
 },
 "fullExtent": {
  "ymin": 3904336.1409478975,
  "xmin": 201331.27242047404,
  "ymax": 4685587.1774114184,
  "xmax": 702336.96268507,
  "spatialReference": {
   "latestWkid": 26912,
   "wkid": 26912
  }
 },
 "bandCount": 3,
 "rasterFunctionInfos": [
  {
   "help": "",
   "name": "None",
   "description": ""
  }
 ],
 "supportsStatistics": false,
 "sortableFields": "",
 "minValues": [
  3,
  3,
  1
 ],
 "allowRasterFunction": true,
 "allowComputeTiePoints": false,
 "serviceDataType": "esriImageServiceDataTypeRGB",
 "supportsAdvancedQueries": false,
 "currentVersion": 12.1,
 "sortValue": null,
 "objectIdField": "",
 "blockHeight": 1,
 "initialExtent": {
  "ymin": 3904336.1409478975,
  "xmin": 201331.27242047404,
  "ymax": 4685587.1774114184,
  "xmax": 702336.96268507,
  "spatialReference": {
   "latestWkid": 26912,
   "wkid": 26912
  }
 },
 "pixelSizeX": 85.306604846687549,
 "pixelSizeY": 82.979398456029841,
 "defaultMosaicMethod": "Center",
 "name": "StateMap/Official_Utah_Highway_Map",
 "allowedMosaicMethods": "",
 "fields": [],
 "allowAnalysis": true,
 "hasRasterAttributeTable": false,
 "useStandardizedQueries": false,
 "description": "Official Utah Highway Map 2021",
 "pixelType": "U8",
 "meanPixelSize": 84.143001651358702,
 "exportTilesAllowed": false,
 "editFieldsInfo": null,
 "rasterTypeInfos": [
  {
   "help": "",
   "name": "Raster Dataset",
   "description": "Supports all ArcGIS Raster Datasets"
  }
 ],
 "defaultResamplingMethod": "Bilinear",
 "itemAccess": false,
 "minScale": 0,
 "serviceProperties": "Center<\/MosaicMethod>First<\/MosaicOperator>true<\/SortAscending><\/LockImageID><\/TileOrderField>0<\/TileOrderBase>0.000000<\/AvgImageSpacingX>0.000000<\/AvgImageSpacingY>0.0<\/ViewPointX>0.0<\/ViewPointY>0.0<\/ViewPointDefShiftX>0.0<\/ViewPointDefShiftY>None<\/CompressionMethod>75<\/CompressionQuality>0.010000<\/CompressionTolerance>Bilinear<\/SamplingMethod><\/ImageServiceProperties><\/ImageServer>",
 "advancedQueryCapabilities": {
  "supportsStatistics": false,
  "supportsSqlExpression": false,
  "supportsOrderBy": false,
  "useStandardizedQueries": false,
  "supportsPagination": false,
  "supportsDistinct": false
 },
 "serviceItemId": "f560fb917eb7452b9f52dc5d08f785a2",
 "capabilities": "Image,Metadata,Mensuration",
 "maxScale": 0,
 "stdvValues": [
  35.949439118365,
  48.096329337249998,
  46.547278688871003
 ],
 "allowedFields": "",
 "minPixelSize": 0,
 "sortAscending": true,
 "inspectionCapabilities": "",
 "maxPixelSize": 0,
 "allowedCompressions": "None,JPEG,LZ77,LERC",
 "uncompressedSize": 165882885,
 "serviceDescription": "Official Utah Highway Map 2021",
 "allowCopy": true,
 "copyrightText": "UDOT-GIS",
 "mensurationCapabilities": "Basic",
 "ownershipBasedAccessControlForRasters": null
}
