View In:
ArcGIS JavaScript
ArcGIS Online Map Viewer
ArcGIS Earth
Service Description: Official Utah Highway Map 2021
Name: StateMap/Official_Utah_Highway_Map
Description: Official Utah Highway Map 2021
Single Fused Map Cache: false
Extent:
XMin: 201331.27242047404
YMin: 3904336.1409478975
XMax: 702336.96268507
YMax: 4685587.177411418
Spatial Reference: 26912
(26912)
Initial Extent:
XMin: 201331.27242047404
YMin: 3904336.1409478975
XMax: 702336.96268507
YMax: 4685587.177411418
Spatial Reference: 26912
(26912)
Full Extent:
XMin: 201331.27242047404
YMin: 3904336.1409478975
XMax: 702336.96268507
YMax: 4685587.177411418
Spatial Reference: 26912
(26912)
Pixel Size X: 85.30660484668755
Pixel Size Y: 82.97939845602984
Band Count: 3
Pixel Type: U8
RasterFunction Infos: {"rasterFunctionInfos": [{
"help": "",
"name": "None",
"description": ""
}]}
Mensuration Capabilities: Basic
Inspection Capabilities:
Has Histograms: true
Has Colormap: false
Has Multi Dimensions : false
Rendering Rule:
Min Scale: 0
Max Scale: 0
Copyright Text: UDOT-GIS
Service Data Type: esriImageServiceDataTypeRGB
Min Values: 3, 3, 1
Max Values: 255, 255, 255
Mean Values: 234.88850470880001, 228.98691757802001, 227.37311123711001
Standard Deviation Values: 35.949439118365, 48.096329337249998, 46.547278688871003
Object ID Field:
Fields:
None
Default Mosaic Method: Center
Allowed Mosaic Methods:
SortField:
SortValue: N/A
Mosaic Operator: First
Default Compression Quality: 75
Default Resampling Method: Bilinear
Max Record Count: null
Max Image Height: 4100
Max Image Width: 15000
Max Download Image Count: null
Max Mosaic Image Count: null
Allow Raster Function: true
Allow Copy: true
Allow Analysis: true
Allow Compute TiePoints: false
Supports Statistics: false
Supports Advanced Queries: false
Use StandardizedQueries: false
Raster Type Infos:
Name: Raster Dataset
Description: Supports all ArcGIS Raster Datasets
Help:
Has Raster Attribute Table: false
Edit Fields Info: N/A
Ownership Based AccessControl For Rasters: N/A
Child Resources:
Info
Histograms
Statistics
Key Properties
Legend
Raster Function Infos
Supported Operations:
Export Image
Identify
Measure
Compute Histograms
Compute Statistics Histograms
Get Samples
Compute Class Statistics
Query Boundary
Compute Pixel Location
Compute Angles
Validate
Project